BEGIN:VCALENDAR
VERSION:2.0
PRODID:-//Sodam - ECPv6.15.20//NONSGML v1.0//EN
CALSCALE:GREGORIAN
METHOD:PUBLISH
X-WR-CALNAME:Sodam
X-ORIGINAL-URL:https://sodam.qc.ca
X-WR-CALDESC:Évènements pour Sodam
REFRESH-INTERVAL;VALUE=DURATION:PT1H
X-Robots-Tag:noindex
X-PUBLISHED-TTL:PT1H
BEGIN:VTIMEZONE
TZID:America/Toronto
BEGIN:DAYLIGHT
TZOFFSETFROM:-0500
TZOFFSETTO:-0400
TZNAME:EDT
DTSTART:20240310T070000
END:DAYLIGHT
BEGIN:STANDARD
TZOFFSETFROM:-0400
TZOFFSETTO:-0500
TZNAME:EST
DTSTART:20241103T060000
END:STANDARD
BEGIN:DAYLIGHT
TZOFFSETFROM:-0500
TZOFFSETTO:-0400
TZNAME:EDT
DTSTART:20250309T070000
END:DAYLIGHT
BEGIN:STANDARD
TZOFFSETFROM:-0400
TZOFFSETTO:-0500
TZNAME:EST
DTSTART:20251102T060000
END:STANDARD
BEGIN:DAYLIGHT
TZOFFSETFROM:-0500
TZOFFSETTO:-0400
TZNAME:EDT
DTSTART:20260308T070000
END:DAYLIGHT
BEGIN:STANDARD
TZOFFSETFROM:-0400
TZOFFSETTO:-0500
TZNAME:EST
DTSTART:20261101T060000
END:STANDARD
BEGIN:DAYLIGHT
TZOFFSETFROM:-0500
TZOFFSETTO:-0400
TZNAME:EDT
DTSTART:20270314T070000
END:DAYLIGHT
BEGIN:STANDARD
TZOFFSETFROM:-0400
TZOFFSETTO:-0500
TZNAME:EST
DTSTART:20271107T060000
END:STANDARD
END:VTIMEZONE
BEGIN:VEVENT
DTSTART;TZID=America/Toronto:20251201T080000
DTEND;TZID=America/Toronto:20260601T170000
DTSTAMP:20260421T053438
CREATED:20251204T191748Z
LAST-MODIFIED:20251204T192317Z
UID:3046-1764576000-1780333200@sodam.qc.ca
SUMMARY:Exposition - Les merveilles de Mascouche
DESCRIPTION:Notre bande dessinée « Merveilles de Mascouche » est maintenant exposée en format géant au Parc du Grand-Coteau et le résultat est FA-BU-LEUX !\n\n\nLors de votre prochaine marche en nature\, repérez les 8 panneaux qui racontent l’histoire de Mascouche grâce aux magnifiques dessins de l’artiste Sandra Breault.\n \n\n\nMerci à la Ville de Mascouche pour la réalisation de ce beau projet qui célèbre le 275e anniversaire de notre ville.
URL:https://sodam.qc.ca/evenement/exposition-les-merveilles-de-mascouche/
LOCATION:Parc du Grand-Coteau\, 2600\, boulevard de Mascouche\, Mascouche\, Québec\, J7K 4B8\, Canada
CATEGORIES:Société d'histoire de Mascouche
ATTACH;FMTTYPE=image/png:https://sodam.qc.ca/wp-content/uploads/2025/12/Site-web-SODAM-2.png
END:VEVENT
BEGIN:VEVENT
DTSTART;TZID=America/Toronto:20260309T080000
DTEND;TZID=America/Toronto:20260622T170000
DTSTAMP:20260421T053438
CREATED:20260216T181319Z
LAST-MODIFIED:20260309T132243Z
UID:3168-1773043200-1782147600@sodam.qc.ca
SUMMARY:Inscriptions au camp de jour Cirkana
DESCRIPTION:Un camp de jour en arts du cirque\n\n\n\n\nCet été\, deviens un artiste de cirque grâce à notre camp de jour à Mascouche !\nEncadrés par une équipe certifiée et spécialisée\, les jeunes inscrits au camp de jour Cirkana\, spécialisé en cirque\, pourront s’initier aux arts du cirque ou perfectionner leurs compétences. Ils découvriront la jonglerie\, l’acrobatie\, les techniques aériennes et bien plus encore. De plus\, plusieurs activités de création artistique viendront enrichir l’expérience\, et chaque semaine se terminera par un spectacle présenté devant les familles. \n  \nEn savoir plus
URL:https://sodam.qc.ca/evenement/inscriptions-au-camp-de-jour-cirkana/
ATTACH;FMTTYPE=image/png:https://sodam.qc.ca/wp-content/uploads/2026/02/Site-web-SODAM-2.png
END:VEVENT
BEGIN:VEVENT
DTSTART;TZID=America/Toronto:20260424T190000
DTEND;TZID=America/Toronto:20260424T203000
DTSTAMP:20260421T053438
CREATED:20260304T151332Z
LAST-MODIFIED:20260417T175914Z
UID:3199-1777057200-1777062600@sodam.qc.ca
SUMMARY:Session d’initiation aux techniques de clown thérapeutique
DESCRIPTION:Parcours « Animation des aînés en CHSLD – Approche Dr Clown »\nCette formation en trois ateliers\, présentée en collaboration avec la Faculté d’art clownesque de la Fondation du Dr Clown\, propose une immersion progressive dans l’univers du clown thérapeutique appliqué à l’accompagnement des aînés\, notamment en CHSLD. Elle s’adresse à toute personne souhaitant développer des outils humains\, sensibles et concrets pour mieux communiquer avec les personnes âgées\, particulièrement celles vivant avec des troubles neurodégénératifs. \nIMPORTANT:\n*Tous les ateliers sont actuellement complets \n  \nATELIER 1: Conférence – Communiquer autrement avec les aînés —COMPLET—\n\n24 avril 2026\, 19h à 20h30\nLieu : Maison de la culture\, 2906\, chemin Sainte-Marie\, Mascouche\, local 207\, 2e étage\n\nCette conférence d’introduction permet de découvrir les fondements du clown thérapeutique et son application auprès des aînés. \nAu programme : \n\nUn survol des troubles neurodégénératifs (dont la démence)\nLes bases de la communication non verbale\nLes cinq valeurs du clown thérapeutique : simplicité\, honnêteté\, légèreté\, ouverture et joie\nDes outils concrets d’intervention du clown thérapeutique\nL’importance de la bienveillance envers soi dans la relation d’aide\n\n  \n  \nATELIER 2: Accompagner avec légèreté —COMPLET—\n\n9 mai 2026\, 9h à midi\n\n  \nATELIER 3: Simulation du vieillissement —COMPLET—\n\n16 mai 2026\, 9h à midi\n\n\n  \nCoût  \nLa session d‘ateliers est offerte gratuitement par Cirkana\, grâce au soutien financier de Loisir et sport Lanaudière\, via le programme PAFILR. La session de trois ateliers est d’une valeur de 3450$. \n 
URL:https://sodam.qc.ca/evenement/session-dinitiation-aux-techniques-de-clown-therapeutique/
LOCATION:Maison de la culture\, 2906\, chemin Sainte-Marie\, Mascouche\, Québec\, J7K 1N7\, Canada
ATTACH;FMTTYPE=image/png:https://sodam.qc.ca/wp-content/uploads/2026/03/Site-web-SODAM-2.png
END:VEVENT
BEGIN:VEVENT
DTSTART;TZID=America/Toronto:20260430T080000
DTEND;TZID=America/Toronto:20260502T170000
DTSTAMP:20260421T053438
CREATED:20250915T153700Z
LAST-MODIFIED:20250915T153700Z
UID:2791-1777536000-1777741200@sodam.qc.ca
SUMMARY:Festival Grande Tribu
DESCRIPTION:Festival de musique émergente à Terrebonne et Mascouche\nLe Festival Grande Tribu sera de retour du 30 avril au 2 mai 2026 pour une 11e édition qui fera battre le cœur de Terrebonne et Mascouche au rythme de la musique émergente! Cet événement unique dans Lanaudière est reconnu comme un rendez-vous incontournable pour découvrir la relève musicale et vivre des expériences culturelles originales. \nLe festival débutera le jeudi 30 avril sur la place publique du Vieux-Terrebonne\, où l’ambiance festive et le décor patrimonial offrent une atmosphère incomparable. Les 1er et 2 mai\, le Vieux-Mascouche prendra le relais alors que le chemin Sainte-Marie se transformera en un espace vibrant où la musique\, la convivialité et le patrimoine se rencontrent. \nChaque année\, Grande Tribu met en valeur des artistes de la scène émergente dans des contextes variés : spectacles extérieurs\, concerts intimistes et performances surprenantes. La programmation officielle de 2026 sera dévoilée en mars 2026\, mais déjà\, les festivaliers savent qu’ils y retrouveront ce qui fait la force du festival : l’audace\, la créativité et l’énergie de la relève. \nPlus qu’un simple festival de musique\, Grande Tribu est un lieu de rencontre pour les familles\, les mélomanes et tous ceux qui aiment les découvertes culturelles. On y vient pour la musique\, mais aussi pour l’ambiance chaleureuse\, la proximité avec les artistes et la richesse des échanges humains. C’est un moment idéal pour célébrer le printemps dans un cadre unique\, entre le charme du Vieux-Terrebonne et l’authenticité du Vieux-Mascouche. \n👉 Ne manquez pas le festival de musique à Terrebonne et Mascouche qui met en lumière la créativité québécoise et fait rayonner la relève. Du 30 avril au 2 mai 2026\, rejoignez la tribu et vivez une expérience musicale et culturelle inoubliable ! \nToute l’info au :🌐 www.festivalgrandetribu.com
URL:https://sodam.qc.ca/evenement/festival-grande-tribu-2/
LOCATION:Vieux-Mascouche\, 2928\, chemin Sainte-Marie\, Mascouche\, Québec\, J7K 1N7\, Canada
CATEGORIES:Diffusion musicale
ATTACH;FMTTYPE=image/png:https://sodam.qc.ca/wp-content/uploads/2025/09/Site-web-SODAM-8.png
END:VEVENT
BEGIN:VEVENT
DTSTART;TZID=America/Toronto:20260614T130000
DTEND;TZID=America/Toronto:20260614T153000
DTSTAMP:20260421T053438
CREATED:20260309T181343Z
LAST-MODIFIED:20260408T194430Z
UID:3178-1781442000-1781451000@sodam.qc.ca
SUMMARY:Circuit guidé « Mascouche en tournée »
DESCRIPTION:La Société d’histoire de Mascouche vous invite à découvrir le patrimoine local à travers une visite guidée en autobus. Accompagné de guides passionnés\, le parcours propose une exploration de lieux emblématiques de Mascouche tels que le parc du Grand-Coteau\, l’église Saint-Henri\, l’ancien hôtel de ville et plusieurs résidences historiques. Cette promenade permet de mieux comprendre l’évolution du territoire\, depuis les premières constructions de tradition française jusqu’aux développements plus récents qui ont façonné le paysage urbain de Mascouche.  \nAu fil des arrêts\, les participantes et participants découvrent les styles architecturaux\, les fonctions et les transformations de bâtiments qui témoignent de plus de deux siècles d’histoire locale. Entre patrimoine religieux\, institutions publiques\, maisons anciennes et quartiers résidentiels\, la visite met en lumière la richesse historique et architecturale de la ville\, tout en révélant les liens entre le développement du territoire\, la vie communautaire et les grandes tendances de l’architecture québécoise.  \nDeux guides d’expérience \nDany Guimond a complété sa maîtrise en architecture à l’Université de Montréal en 2017 et est devenu membre de l’Ordre des architectes en 2021. Travaillant actuellement chez ZED architectes à Saint-Jérôme\, il emploie sa créativité et son professionnalisme au développement de projets dans les régions de Lanaudière\, des Laurentides\, de Laval et de l’Outaouais. Passionné par l’histoire\, l’architecture et le patrimoine\, il s’est impliqué auprès de l’organisme Héritage Montréal en tant que guide bénévole entre 2016 et 2022 afin de transmettre et de partager son enthousiasme envers le patrimoine bâti de la grande région métropolitaine. Installé à Mascouche depuis 2020\, il a décidé de gonfler les rangs de la Société d’histoire de Mascouche afin de s’engager dans sa nouvelle communauté. \nQuant à Sylvie Gagnon\, sa réputation est déjà bien établie dans la région depuis plus de 25 ans. Guide et interprète\, autant au niveau des attraits touristiques que patrimoniaux\, Mme Gagnon s’implique au sein de la Société d’histoire de Mascouche depuis sa création en 2005\, et elle a collaboré à la création du tout premier circuit historique audioguidé de Mascouche. Sa connaissance de notre histoire locale et sa motivation à développer des activités dynamiques l’ont amenée\, dans les dernières années\, à travailler sur deux circuits virtuels\, sur un circuit à vélo\, sur des projets de livres d’histoire\, sur des murales et des évocations historiques\, et bien plus encore ! \nRenseignements \nLe circuit Mascouche en tournée aura lieu le dimanche 14 juin 2026\, de 13 h à 15 h 30. Le départ se fera devant le Pavillon du Grand-Coteau\, situé au 2510 boul. Mascouche. Les places étant limitées à 40 personnes\, les personnes intéressées doivent obligatoirement acheter leur billet à l’avance au coût de 25 $. \nBien que le circuit se fasse principalement en autobus\, un court déplacement à pied d’environ 250 mètres est prévu à un moment du parcours. N’hésitez pas à nous contacter pour toute question concernant l’accessibilité. \n \nMerci à notre partenaire Mathieu Lemay\, député de Masson
URL:https://sodam.qc.ca/evenement/mascouche-en-tournee/
LOCATION:Pavillon du Grand-Coteau\, 2510\, boulevard de Mascouche\, Mascouche\, Québec\, J7K 0H5\, Canada
CATEGORIES:Société d'histoire de Mascouche
ATTACH;FMTTYPE=image/png:https://sodam.qc.ca/wp-content/uploads/2026/03/Site-web-SODAM-1.png
END:VEVENT
BEGIN:VEVENT
DTSTART;TZID=America/Toronto:20260624T150000
DTEND;TZID=America/Toronto:20260624T230000
DTSTAMP:20260421T053438
CREATED:20241018T173147Z
LAST-MODIFIED:20250915T154446Z
UID:916-1782313200-1782342000@sodam.qc.ca
SUMMARY:Fête nationale du Québec à Mascouche
DESCRIPTION:La SODAM\, en collaboration avec la Ville de Mascouche\, est fière de co-organiser la Fête nationale du Québec à Mascouche\, qui se tiendra le 24 juin 2026 de 15 h à 23 h sur le site de l’école Le Prélude (2995\, avenue des Ancêtres à Mascouche). Comme chaque année\, la population est invitée à célébrer notre fierté collective lors d’une journée rassembleuse et festive. \nLes festivités débuteront dès 15 h avec l’ouverture du site. \nPlus d’information à venir en 2026.
URL:https://sodam.qc.ca/evenement/fete-nationale-du-quebec-a-mascouche/
LOCATION:Stationnement de l’école Le Prélude\, 2995\, avenue des Ancêtres\, Mascouche\, Québec\, J7K 1X6\, Canada
CATEGORIES:Diffusion musicale
ATTACH;FMTTYPE=image/png:https://sodam.qc.ca/wp-content/uploads/2024/10/Creation-sans-titre-21.png
END:VEVENT
BEGIN:VEVENT
DTSTART;TZID=America/Toronto:20260704T100000
DTEND;TZID=America/Toronto:20260913T143000
DTSTAMP:20260421T053438
CREATED:20251210T164533Z
LAST-MODIFIED:20251210T164623Z
UID:3075-1783159200-1789309800@sodam.qc.ca
SUMMARY:Marché public moulinois
DESCRIPTION:Depuis 2009\, le Marché public Moulinois favorise une meilleure accessibilité des produits locaux et des environs de Lanaudière\, et ce\, chaque fin de semaine pendant la saison estivale\, soit du début juillet à la mi-septembre. \nLe marché propose plusieurs producteurs\, transformateurs\, artisans et détaillants qui ont été sélectionnés pour la qualité de leurs produits et leur savoir-faire. Venez rencontrer et supporter ces exposants qui présentent des produits frais et diversifiés qui sauront vous charmer et remplir votre garde-manger! \nHoraire 2026\n4 juillet au 13 septembre de 10h à 14h30 \n\nLes samedis sur la place publique du Vieux-Terrebonne (sur la rue Saint-Pierre au coin de la re Sainte-Marie)\nLes dimanches à Mascouche sur le site de l’hôtel de ville (3034\, chemin Sainte-Marie)\n\nRestez à l’affut; plus de détails sur la saison 2026 viendront sous peu. \nConsultez aussi le site web du Marché public moulinois \nSuivez-nous sur Facebook
URL:https://sodam.qc.ca/evenement/marche-public-moulinois/
CATEGORIES:Tourisme gourmand
ATTACH;FMTTYPE=image/png:https://sodam.qc.ca/wp-content/uploads/2025/12/Marche-2026_site-web.png
END:VEVENT
BEGIN:VEVENT
DTSTART;TZID=America/Toronto:20260827T190000
DTEND;TZID=America/Toronto:20260827T210000
DTSTAMP:20260421T053438
CREATED:20260409T132104Z
LAST-MODIFIED:20260420T184225Z
UID:3308-1787857200-1787864400@sodam.qc.ca
SUMMARY:Jam Tricot sur la Place du Village
DESCRIPTION:Le 27 août prochain\, la Place du Village Dionis-Chaput s’animera le temps d’une soirée estivale pas comme les autres : un jam de musique traditionnelle québécoise en plein air\, où les aiguilles à tricoter suivront le rythme des violons! \nSous l’impulsion de la Société d’histoire de Mascouche\, le Jam Tricot est une invitation à vivre — ensemble — deux pratiques qui ont traversé les générations : la musique traditionnelle et le tricot. Deux arts du quotidien\, souvent appris au contact d’un grand-parent\, d’un mentor ou en solo\, tranquillement. Cet été\, ces deux pratiques du patrimoine vivant s’unissent sur la place publique\, au cœur de la communauté. \nQue vous soyez musicien aguerri ou simple curieux\, tricoteuse de longue date ou grand débutant — il n’y a pas de niveau requis. Vous pouvez jouer\, écouter\, giguer\, regarder\, apprendre ou simplement vous laisser porter par l’ambiance. Les tricoteuses de la FADOQ Cercle d’Or de Mascouche seront sur place comme ambassadrices du geste textile : prêtes à guider les mains hésitantes\, répondre aux questions et partager ce savoir-faire vivant qui se perd si on ne prend pas le temps de se rassembler. \nTous niveaux bienvenus. Entrée libre. Venez en famille\, entre amis\, ou seul — vous ne le resterez pas longtemps! \nMerci à notre partenaire Mathieu Lemay\, député de Masson
URL:https://sodam.qc.ca/evenement/jam-tricot-sur-la-place-du-village/
LOCATION:Place du Village Dionis-Chaput\, 2875\, Ch Sainte-Marie\, Mascouche\, Québec\, J7K 3B8\, Canada
CATEGORIES:Société d'histoire de Mascouche
ATTACH;FMTTYPE=image/png:https://sodam.qc.ca/wp-content/uploads/2026/04/Site-web-SODAM-2.png
END:VEVENT
BEGIN:VEVENT
DTSTART;TZID=America/Toronto:20260919T100000
DTEND;TZID=America/Toronto:20260919T160000
DTSTAMP:20260421T053438
CREATED:20251210T165805Z
LAST-MODIFIED:20251210T165805Z
UID:3080-1789812000-1789833600@sodam.qc.ca
SUMMARY:Fête des récoltes Terrebonne
DESCRIPTION:L’événement automnal par excellence !\nVenez célébrer l’automne et les richesses agricoles de notre région lors de la Fête des récoltes! Cet événement festif et familial est l’occasion parfaite de rencontrer et de soutenir les producteurs et maraîchers locaux\, en plein cœur de la saison des récoltes. \nAu programme\nPlus d’une vingtaine de kiosques de producteurs locaux vous attendent. C’est l’endroit idéal pour faire le plein de produits frais et de saison\, directement de la terre à votre table. Vous pourrez y découvrir une variété de légumes\, de fruits\, de fromages\, de viandes et d’autres produits artisanaux\, tous cultivés et fabriqués avec soin dans notre belle région. \nEn plus de régaler vos papilles\, la Fête des récoltes est aussi une fête pour toute la famille. Des spectacles musicaux gratuits créeront une ambiance joyeuse tout au long de la journée. \nLes plus petits pourront se transformer en leurs personnages préférés grâce à l’atelier de maquillage pour enfants et s’amuser sans limites dans les jeux gonflables. Pour immortaliser ces moments précieux\, un photobooth aux couleurs de l’automne sera à votre disposition. Enfin\, ne manquez pas les tours de charrette qui vous offriront une perspective unique sur le site. \nPourquoi y participer ?\nC’est une excellente occasion de profiter d’une sortie familiale gratuite et festive. En participant\, vous contribuez directement à l’économie locale et encouragez les personnes passionnées qui travaillent si fort pour nous offrir des produits de qualité. La Fête des récoltes est le rendez-vous automnal par excellence pour goûter\, célébrer et partager les saveurs de notre terroir. C’est une véritable immersion dans la vie rurale\, une chance de se reconnecter à la terre et à ceux qui la cultivent. \nC’est GRATUIT
URL:https://sodam.qc.ca/evenement/fete-des-recoltes-terrebonne/
LOCATION:Centre horticole Bastien\, 4835\, chemin Martin\, Terrebonne\, Québec\, J6X 0B2\, Canada
CATEGORIES:Tourisme gourmand
ATTACH;FMTTYPE=image/png:https://sodam.qc.ca/wp-content/uploads/2025/12/2.png
END:VEVENT
BEGIN:VEVENT
DTSTART;TZID=America/Toronto:20260926T100000
DTEND;TZID=America/Toronto:20260926T160000
DTSTAMP:20260421T053438
CREATED:20251210T170046Z
LAST-MODIFIED:20251210T170046Z
UID:3086-1790416800-1790438400@sodam.qc.ca
SUMMARY:Fête des récoltes Mascouche
DESCRIPTION:L’événement automnal par excellence !\nVenez célébrer l’automne et les richesses agricoles de notre région lors de la Fête des récoltes! Cet événement festif et familial est l’occasion parfaite de rencontrer et de soutenir les producteurs et maraîchers locaux\, en plein cœur de la saison des récoltes. \nAu programme\nPlus d’une vingtaine de kiosques de producteurs locaux vous attendent. C’est l’endroit idéal pour faire le plein de produits frais et de saison\, directement de la terre à votre table. Vous pourrez y découvrir une variété de légumes\, de fruits\, de fromages\, de viandes et d’autres produits artisanaux\, tous cultivés et fabriqués avec soin dans notre belle région. \nEn plus de régaler vos papilles\, la Fête des récoltes est aussi une fête pour toute la famille. Des spectacles musicaux gratuits créeront une ambiance joyeuse tout au long de la journée. \nLes plus petits pourront se transformer en leurs personnages préférés grâce à l’atelier de maquillage pour enfants et s’amuser sans limites dans les jeux gonflables. Pour immortaliser ces moments précieux\, un photobooth aux couleurs de l’automne sera à votre disposition. Enfin\, ne manquez pas les tours de charrette qui vous offriront une perspective unique sur le site. \nPourquoi y participer ?\nC’est une excellente occasion de profiter d’une sortie familiale gratuite et festive. En participant\, vous contribuez directement à l’économie locale et encouragez les personnes passionnées qui travaillent si fort pour nous offrir des produits de qualité. La Fête des récoltes est le rendez-vous automnal par excellence pour goûter\, célébrer et partager les saveurs de notre terroir. C’est une véritable immersion dans la vie rurale\, une chance de se reconnecter à la terre et à ceux qui la cultivent. \nC’est GRATUIT
URL:https://sodam.qc.ca/evenement/fete-des-recoltes-mascouche/
LOCATION:33 Hectares\, 1440\, chemin de la Cote-Georges\, Mascouche\, Québec\, J7K 3C2\, Canada
CATEGORIES:Tourisme gourmand
ATTACH;FMTTYPE=image/png:https://sodam.qc.ca/wp-content/uploads/2025/12/1.png
END:VEVENT
END:VCALENDAR